BEGIN:VCALENDAR
VERSION:2.0
PRODID:-//Utenos daugiafunkcis sporto centras - ECPv6.8.2//NONSGML v1.0//EN
CALSCALE:GREGORIAN
METHOD:PUBLISH
X-ORIGINAL-URL:https://utenosdsc.lt
X-WR-CALDESC:Events for Utenos daugiafunkcis sporto centras
REFRESH-INTERVAL;VALUE=DURATION:PT1H
X-Robots-Tag:noindex
X-PUBLISHED-TTL:PT1H
BEGIN:VTIMEZONE
TZID:UTC
BEGIN:STANDARD
TZOFFSETFROM:+0000
TZOFFSETTO:+0000
TZNAME:UTC
DTSTART:20250101T000000
END:STANDARD
END:VTIMEZONE
BEGIN:VEVENT
DTSTART;TZID=UTC:20250426T110000
DTEND;TZID=UTC:20250426T110000
DTSTAMP:20260422T221709
CREATED:20250423T105751Z
LAST-MODIFIED:20250423T105751Z
UID:6182-1745665200-1745665200@utenosdsc.lt
SUMMARY:Utenos r. rankinio čempionatas. Sena šaika - Džiuljetos laužai
DESCRIPTION:
URL:https://utenosdsc.lt/renginys/utenos-r-rankinio-cempionatas-sena-saika-dziuljetos-lauzai/
LOCATION:Utenos miesto daugiafunkcis sporto kompleksas\, K. Donelaičio g. 38\, Utena
CATEGORIES:Sporto renginiai visiems
END:VEVENT
BEGIN:VEVENT
DTSTART;TZID=UTC:20250426T170000
DTEND;TZID=UTC:20250426T170000
DTSTAMP:20260422T221709
CREATED:20250423T105929Z
LAST-MODIFIED:20250423T105929Z
UID:6186-1745686800-1745686800@utenosdsc.lt
SUMMARY:Lietuvos krepšinio lygos rungtynės. Juventus - Žalgiris
DESCRIPTION:
URL:https://utenosdsc.lt/renginys/lietuvos-krepsinio-lygos-rungtynes-juventus-zalgiris/
LOCATION:Utenos miesto daugiafunkcis sporto kompleksas\, K. Donelaičio g. 38\, Utena
CATEGORIES:Sporto renginiai visiems
END:VEVENT
BEGIN:VEVENT
DTSTART;TZID=UTC:20250502T183000
DTEND;TZID=UTC:20250502T183000
DTSTAMP:20260422T221709
CREATED:20250429T114631Z
LAST-MODIFIED:20250429T114631Z
UID:6219-1746210600-1746210600@utenosdsc.lt
SUMMARY:Utenos r. rankinio čempionatas. Utenos DSC - Storuliukės (moterys)
DESCRIPTION:
URL:https://utenosdsc.lt/renginys/utenos-r-rankinio-cempionatas-utenos-dsc-storuliukes-moterys/
LOCATION:Utenos miesto daugiafunkcis sporto kompleksas\, K. Donelaičio g. 38\, Utena
CATEGORIES:Sporto renginiai visiems
END:VEVENT
BEGIN:VEVENT
DTSTART;TZID=UTC:20250502T193000
DTEND;TZID=UTC:20250502T193000
DTSTAMP:20260422T221709
CREATED:20250429T115316Z
LAST-MODIFIED:20250429T115326Z
UID:6221-1746214200-1746214200@utenosdsc.lt
SUMMARY:Utenos r. rankinio čempionatas. Gazelės - Molėtai SK (moterys)
DESCRIPTION:
URL:https://utenosdsc.lt/renginys/utenos-r-rankinio-cempionatas-gazeles-moletai-sk-moterys/
LOCATION:Utenos miesto daugiafunkcis sporto kompleksas\, K. Donelaičio g. 38\, Utena
CATEGORIES:Sporto renginiai visiems
END:VEVENT
BEGIN:VEVENT
DTSTART;TZID=UTC:20250502T203000
DTEND;TZID=UTC:20250502T203000
DTSTAMP:20260422T221709
CREATED:20250429T115804Z
LAST-MODIFIED:20250429T115804Z
UID:6223-1746217800-1746217800@utenosdsc.lt
SUMMARY:Utenos r. rankinio čempionatas. Utenos DSC I jaunimas - HC kam per 30 (vyrai)
DESCRIPTION:
URL:https://utenosdsc.lt/renginys/utenos-r-rankinio-cempionatas-utenos-dsc-i-jaunimas-hc-kam-per-30-vyrai/
LOCATION:Utenos miesto daugiafunkcis sporto kompleksas\, K. Donelaičio g. 38\, Utena
CATEGORIES:Sporto renginiai visiems
END:VEVENT
BEGIN:VEVENT
DTSTART;TZID=UTC:20250503T100000
DTEND;TZID=UTC:20250503T100000
DTSTAMP:20260422T221709
CREATED:20250429T115857Z
LAST-MODIFIED:20250429T115857Z
UID:6225-1746266400-1746266400@utenosdsc.lt
SUMMARY:Karatė. Aukštaitijos taurė
DESCRIPTION:
URL:https://utenosdsc.lt/renginys/karate-aukstaitijos-taure/
LOCATION:Utenos miesto daugiafunkcis sporto kompleksas\, K. Donelaičio g. 38\, Utena
CATEGORIES:Sporto renginiai visiems
END:VEVENT
BEGIN:VEVENT
DTSTART;TZID=UTC:20250506T120000
DTEND;TZID=UTC:20250506T120000
DTSTAMP:20260422T221709
CREATED:20250505T101008Z
LAST-MODIFIED:20250505T101008Z
UID:6296-1746532800-1746532800@utenosdsc.lt
SUMMARY:Pradinukų trikovė FINALAI
DESCRIPTION:
URL:https://utenosdsc.lt/renginys/pradinuku-trikove-finalai/
LOCATION:„Utenio“ stadionas\, Užpalių g. 100\, Utena\, Lietuva
CATEGORIES:Sporto renginiai visiems
END:VEVENT
BEGIN:VEVENT
DTSTART;TZID=UTC:20250507T183000
DTEND;TZID=UTC:20250507T183000
DTSTAMP:20260422T221709
CREATED:20250505T100738Z
LAST-MODIFIED:20250505T100738Z
UID:6292-1746642600-1746642600@utenosdsc.lt
SUMMARY:Lietuvos krepšinio lygos krepšinio čempionato varžybos Juventus - Vilniaus "Rytas"
DESCRIPTION:
URL:https://utenosdsc.lt/renginys/lietuvos-krepsinio-lygos-krepsinio-cempionato-varzybos-juventus-vilniaus-rytas/
LOCATION:Utenos miesto daugiafunkcis sporto kompleksas\, K. Donelaičio g. 38\, Utena
CATEGORIES:Sporto renginiai visiems
END:VEVENT
BEGIN:VEVENT
DTSTART;TZID=UTC:20250508T120000
DTEND;TZID=UTC:20250508T120000
DTSTAMP:20260422T221709
CREATED:20250505T101120Z
LAST-MODIFIED:20250505T101120Z
UID:6298-1746705600-1746705600@utenosdsc.lt
SUMMARY:Lengvosios atletikos keturkovės tarpzoninės varžybos
DESCRIPTION:
URL:https://utenosdsc.lt/renginys/lengvosios-atletikos-keturkoves-tarpzonines-varzybos/
LOCATION:„Utenio“ stadionas\, Užpalių g. 100\, Utena\, Lietuva
CATEGORIES:Sporto renginiai visiems
END:VEVENT
BEGIN:VEVENT
DTSTART;TZID=UTC:20250508T183000
DTEND;TZID=UTC:20250508T183000
DTSTAMP:20260422T221709
CREATED:20250505T100355Z
LAST-MODIFIED:20250505T100355Z
UID:6286-1746729000-1746729000@utenosdsc.lt
SUMMARY:Utenos r. rankinio čempionatas. Utenos DSC - Gazelės (moterys)
DESCRIPTION:
URL:https://utenosdsc.lt/renginys/utenos-r-rankinio-cempionatas-utenos-dsc-gazeles-moterys/
LOCATION:Utenos miesto daugiafunkcis sporto kompleksas\, K. Donelaičio g. 38\, Utena
CATEGORIES:Sporto renginiai visiems
END:VEVENT
BEGIN:VEVENT
DTSTART;TZID=UTC:20250509T193000
DTEND;TZID=UTC:20250509T193000
DTSTAMP:20260422T221709
CREATED:20250505T100604Z
LAST-MODIFIED:20250505T100604Z
UID:6290-1746819000-1746819000@utenosdsc.lt
SUMMARY:Utenos r. rankinio čempionatas. Molėtai SK - Storuliukės (moterys)
DESCRIPTION:
URL:https://utenosdsc.lt/renginys/utenos-r-rankinio-cempionatas-moletai-sk-storuliukes-moterys/
LOCATION:Utenos miesto daugiafunkcis sporto kompleksas\, K. Donelaičio g. 38\, Utena
CATEGORIES:Sporto renginiai visiems
END:VEVENT
BEGIN:VEVENT
DTSTART;TZID=UTC:20250510T100000
DTEND;TZID=UTC:20250510T100000
DTSTAMP:20260422T221709
CREATED:20250505T095741Z
LAST-MODIFIED:20250505T095741Z
UID:6280-1746871200-1746871200@utenosdsc.lt
SUMMARY:Atviros Utenos rajono tinklinio varžybos
DESCRIPTION:
URL:https://utenosdsc.lt/renginys/atviros-utenos-rajono-tinklinio-varzybos/
LOCATION:Utenos daugiafunkcis sporto centras\, Aušros g. 20\, Utena\, Lietuva
CATEGORIES:Sporto renginiai visiems
END:VEVENT
BEGIN:VEVENT
DTSTART;TZID=UTC:20250510T190000
DTEND;TZID=UTC:20250510T190000
DTSTAMP:20260422T221709
CREATED:20250505T100817Z
LAST-MODIFIED:20250505T100817Z
UID:6294-1746903600-1746903600@utenosdsc.lt
SUMMARY:Lietuvos krepšinio lygos krepšinio čempionato varžybos Juventus - Šiaulių Šiauliai
DESCRIPTION:
URL:https://utenosdsc.lt/renginys/lietuvos-krepsinio-lygos-krepsinio-cempionato-varzybos-juventus-siauliu-siauliai/
LOCATION:Utenos miesto daugiafunkcis sporto kompleksas\, K. Donelaičio g. 38\, Utena
CATEGORIES:Sporto renginiai visiems
END:VEVENT
BEGIN:VEVENT
DTSTART;TZID=UTC:20250514T183000
DTEND;TZID=UTC:20250514T183000
DTSTAMP:20260422T221709
CREATED:20250513T061741Z
LAST-MODIFIED:20250513T061741Z
UID:6400-1747247400-1747247400@utenosdsc.lt
SUMMARY:Lietuvos krepšinio lygos krepšinio čempionato varžybos. Utenos Juventus - Kėdainių Nevėžis
DESCRIPTION:
URL:https://utenosdsc.lt/renginys/lietuvos-krepsinio-lygos-krepsinio-cempionato-varzybos-utenos-juventus-kedainiu-nevezis/
LOCATION:Utenos miesto daugiafunkcis sporto kompleksas\, K. Donelaičio g. 38\, Utena
CATEGORIES:Sporto renginiai visiems
END:VEVENT
BEGIN:VEVENT
DTSTART;VALUE=DATE:20250518
DTEND;VALUE=DATE:20250519
DTSTAMP:20260422T221709
CREATED:20250513T062112Z
LAST-MODIFIED:20250513T062910Z
UID:6405-1747526400-1747612799@utenosdsc.lt
SUMMARY:Atviros Utenos daugiafunkcio sporto centro diskgolfo varžybos
DESCRIPTION:
URL:https://utenosdsc.lt/renginys/atviros-utenos-daugiafunkcio-sporto-centro-diskgolfo-varzybos/
LOCATION:Utenos miesto daugiafunkcis sporto kompleksas\, K. Donelaičio g. 38\, Utena
CATEGORIES:Sporto renginiai visiems
END:VEVENT
BEGIN:VEVENT
DTSTART;TZID=UTC:20250518T120000
DTEND;TZID=UTC:20250518T140000
DTSTAMP:20260422T221709
CREATED:20250513T061933Z
LAST-MODIFIED:20250513T061933Z
UID:6402-1747569600-1747576800@utenosdsc.lt
SUMMARY:Šeimų fiesta
DESCRIPTION:
URL:https://utenosdsc.lt/renginys/seimu-fiesta/
LOCATION:Utenos kultūros centras\, Aušros g. 49\, Utena\, Lithuania
CATEGORIES:Sporto renginiai visiems
END:VEVENT
BEGIN:VEVENT
DTSTART;TZID=UTC:20250608T100000
DTEND;TZID=UTC:20250608T100000
DTSTAMP:20260422T221709
CREATED:20250603T065917Z
LAST-MODIFIED:20250603T070115Z
UID:6844-1749376800-1749376800@utenosdsc.lt
SUMMARY:Žygis „Žingsnis po žingsnio Uteną pažinsi“ II
DESCRIPTION:
URL:https://utenosdsc.lt/renginys/zygis-zingsnis-po-zingsnio-utena-pazinsi-ii/
LOCATION:Utenos miesto daugiafunkcis sporto kompleksas\, K. Donelaičio g. 38\, Utena
CATEGORIES:Sporto renginiai visiems
END:VEVENT
BEGIN:VEVENT
DTSTART;TZID=UTC:20250823T103000
DTEND;TZID=UTC:20250823T103000
DTSTAMP:20260422T221709
CREATED:20250820T055947Z
LAST-MODIFIED:20250820T055947Z
UID:7898-1755945000-1755945000@utenosdsc.lt
SUMMARY:Lietuvos seniūnijų sporto žaidynių II etapas
DESCRIPTION:
URL:https://utenosdsc.lt/renginys/lietuvos-seniuniju-sporto-zaidyniu-ii-etapas/
LOCATION:Utenos miesto daugiafunkcis sporto kompleksas\, K. Donelaičio g. 38\, Utena
CATEGORIES:Sporto renginiai visiems
ATTACH;FMTTYPE=image/jpeg:https://utenosdsc.lt/wp-content/uploads/2025/08/seniuniju.jpg
END:VEVENT
BEGIN:VEVENT
DTSTART;TZID=UTC:20251022T183000
DTEND;TZID=UTC:20251022T183000
DTSTAMP:20260422T221709
CREATED:20251018T083518Z
LAST-MODIFIED:20251018T083522Z
UID:8594-1761157800-1761157800@utenosdsc.lt
SUMMARY:Karaliaus Mindaugo taurės varžybos. Juventus - Šiauliai
DESCRIPTION:
URL:https://utenosdsc.lt/renginys/karaliaus-mindaugo-taures-varzybos-juventus-siauliai/
LOCATION:Utenos miesto daugiafunkcis sporto kompleksas\, K. Donelaičio g. 38\, Utena
CATEGORIES:Sporto renginiai visiems
END:VEVENT
BEGIN:VEVENT
DTSTART;TZID=UTC:20251024T190000
DTEND;TZID=UTC:20251024T190000
DTSTAMP:20260422T221709
CREATED:20251018T082752Z
LAST-MODIFIED:20251018T082755Z
UID:8580-1761332400-1761332400@utenosdsc.lt
SUMMARY:Regionų krepšinio lygos varžybos Juventus - Anykščių „KKSC-Elmis“
DESCRIPTION:
URL:https://utenosdsc.lt/renginys/regionu-krepsinio-lygos-varzybos-juventus-anyksciu-kksc-elmis/
LOCATION:Utenos daugiafunkcis sporto centras\, Aušros g. 20\, Utena\, Lietuva
CATEGORIES:Sporto renginiai visiems
END:VEVENT
BEGIN:VEVENT
DTSTART;TZID=UTC:20251025T100000
DTEND;TZID=UTC:20251025T100000
DTSTAMP:20260422T221709
CREATED:20251018T083323Z
LAST-MODIFIED:20251018T083327Z
UID:8590-1761386400-1761386400@utenosdsc.lt
SUMMARY:Atviros kambarinių F1N klasės aviamodelių varžybos „UTENOS TAURĖ 2025“
DESCRIPTION:
URL:https://utenosdsc.lt/renginys/atviros-kambariniu-f1n-klases-aviamodeliu-varzybos-utenos-taure-2025/
LOCATION:Utenos miesto daugiafunkcis sporto kompleksas\, K. Donelaičio g. 38\, Utena
CATEGORIES:Sporto renginiai visiems
END:VEVENT
BEGIN:VEVENT
DTSTART;TZID=UTC:20251025T164500
DTEND;TZID=UTC:20251025T164500
DTSTAMP:20260422T221709
CREATED:20251018T083606Z
LAST-MODIFIED:20251018T083610Z
UID:8596-1761410700-1761410700@utenosdsc.lt
SUMMARY:LKL\, kurią remia Betsson varžybos. Juventus - Lietkabelis
DESCRIPTION:
URL:https://utenosdsc.lt/renginys/lkl-kuria-remia-betsson-varzybos-juventus-lietkabelis/
LOCATION:Utenos miesto daugiafunkcis sporto kompleksas\, K. Donelaičio g. 38\, Utena
CATEGORIES:Sporto renginiai visiems
END:VEVENT
BEGIN:VEVENT
DTSTART;TZID=UTC:20251026T120000
DTEND;TZID=UTC:20251026T120000
DTSTAMP:20260422T221709
CREATED:20251018T082919Z
LAST-MODIFIED:20251018T082923Z
UID:8582-1761480000-1761480000@utenosdsc.lt
SUMMARY:Utenos r. 2025 m. vyrų krepšinio čempionatas. KERŲ SISTEMOS - UŽPALIAI
DESCRIPTION:
URL:https://utenosdsc.lt/renginys/utenos-r-2025-m-vyru-krepsinio-cempionatas-keru-sistemos-uzpaliai/
LOCATION:Utenos daugiafunkcis sporto centras\, Aušros g. 20\, Utena\, Lietuva
CATEGORIES:Sporto renginiai visiems
END:VEVENT
BEGIN:VEVENT
DTSTART;TZID=UTC:20251026T130000
DTEND;TZID=UTC:20251026T130000
DTSTAMP:20260422T221709
CREATED:20251018T083416Z
LAST-MODIFIED:20251018T083419Z
UID:8592-1761483600-1761483600@utenosdsc.lt
SUMMARY:Rankinis\, moterų 1 lyga. Utenos DSC - VMSM Sostinės tauras-Eglė
DESCRIPTION:
URL:https://utenosdsc.lt/renginys/rankinis-moteru-1-lyga-utenos-dsc-vmsm-sostines-tauras-egle/
LOCATION:Utenos miesto daugiafunkcis sporto kompleksas\, K. Donelaičio g. 38\, Utena
CATEGORIES:Sporto renginiai visiems
END:VEVENT
BEGIN:VEVENT
DTSTART;TZID=UTC:20251026T140000
DTEND;TZID=UTC:20251026T140000
DTSTAMP:20260422T221709
CREATED:20251018T083027Z
LAST-MODIFIED:20251018T083031Z
UID:8584-1761487200-1761487200@utenosdsc.lt
SUMMARY:Utenos r. 2025 m. vyrų krepšinio čempionatas. EIRIF - AND ONE
DESCRIPTION:
URL:https://utenosdsc.lt/renginys/utenos-r-2025-m-vyru-krepsinio-cempionatas-eirif-and-one/
LOCATION:Utenos daugiafunkcis sporto centras\, Aušros g. 20\, Utena\, Lietuva
CATEGORIES:Sporto renginiai visiems
END:VEVENT
BEGIN:VEVENT
DTSTART;TZID=UTC:20251107T190000
DTEND;TZID=UTC:20251107T190000
DTSTAMP:20260422T221709
CREATED:20251103T110343Z
LAST-MODIFIED:20251103T110348Z
UID:8739-1762542000-1762542000@utenosdsc.lt
SUMMARY:RKL Juventus - Ukmergės SC-Jusema
DESCRIPTION:
URL:https://utenosdsc.lt/renginys/rkl-juventus-ukmerges-sc-jusema/
LOCATION:Utenos daugiafunkcis sporto centras\, Aušros g. 20\, Utena\, Lietuva
CATEGORIES:Sporto renginiai visiems
END:VEVENT
BEGIN:VEVENT
DTSTART;TZID=UTC:20251108T140000
DTEND;TZID=UTC:20251108T140000
DTSTAMP:20260422T221709
CREATED:20251103T110524Z
LAST-MODIFIED:20251103T110528Z
UID:8741-1762610400-1762610400@utenosdsc.lt
SUMMARY:RKL. Juventus - Trakų SC
DESCRIPTION:
URL:https://utenosdsc.lt/renginys/rkl-juventus-traku-sc/
LOCATION:Utenos daugiafunkcis sporto centras\, Aušros g. 20\, Utena\, Lietuva
CATEGORIES:Sporto renginiai visiems
END:VEVENT
BEGIN:VEVENT
DTSTART;TZID=UTC:20251109T140000
DTEND;TZID=UTC:20251109T140000
DTSTAMP:20260422T221709
CREATED:20251103T110755Z
LAST-MODIFIED:20251103T110800Z
UID:8743-1762696800-1762696800@utenosdsc.lt
SUMMARY:Utenos r. 2025 m. vyrų krepšinio čempionatas
DESCRIPTION:
URL:https://utenosdsc.lt/renginys/utenos-r-2025-m-vyru-krepsinio-cempionatas/
LOCATION:Utenos daugiafunkcis sporto centras\, Aušros g. 20\, Utena\, Lietuva
CATEGORIES:Sporto renginiai visiems
END:VEVENT
BEGIN:VEVENT
DTSTART;TZID=UTC:20251112T183000
DTEND;TZID=UTC:20251112T183000
DTSTAMP:20260422T221709
CREATED:20251110T143639Z
LAST-MODIFIED:20251110T143642Z
UID:8946-1762972200-1762972200@utenosdsc.lt
SUMMARY:KMT Juventus – Gargždų Gargždai
DESCRIPTION:
URL:https://utenosdsc.lt/renginys/kmt-juventus-gargzdu-gargzdai/
LOCATION:Utenos miesto daugiafunkcis sporto kompleksas\, K. Donelaičio g. 38\, Utena
CATEGORIES:Sporto renginiai visiems
END:VEVENT
BEGIN:VEVENT
DTSTART;TZID=UTC:20251115T093000
DTEND;TZID=UTC:20251115T093000
DTSTAMP:20260422T221709
CREATED:20251102T143349Z
LAST-MODIFIED:20251108T145924Z
UID:8735-1763199000-1763199000@utenosdsc.lt
SUMMARY:Utenos rajono smiginio moterų ir vyrų asmeninės pirmenybės
DESCRIPTION:Prasidėjo išankstinė registracija į Utenos rajono smiginio moterų ir vyrų asmenines pirmenybes!\n📅 2025 m. lapkričio 15 d. 9.30 val.\n📍 Utenos miesto daugiafunkcis sporto kompleksas (K. Donelaičio g. 38\, Utena)\n👩‍👨‍Pirmenybės vykdomos atskirai vyrų ir moterų grupėse.\n👥 Dalyvauti gali visi norintys Utenos miesto ir rajono gyventojai\, amžius – neribojamas.\n💶 Startinis mokestis:\n– 4 Eur suaugusiajam\n– 2 Eur nepilnamečiui iki 18 metų\n🗓 Išankstinė registracija vyksta iki 2025 m. lapkričio 14 d. 15.00 val.\n⚠️ Registracija renginio vietoje vykdoma tik esant laisvoms vietoms.\n🖊 Registruokis iš anksto: https://utenosdsc.lt/smiginio-registracija\n📄 Pirmenybių nuostatus rasi čia: https://utenosdsc.lt/smiginio-nuostatai
URL:https://utenosdsc.lt/renginys/utenos-rajono-smiginio-moteru-ir-vyru-asmenines-pirmenybes/
LOCATION:Utenos miesto daugiafunkcis sporto kompleksas\, K. Donelaičio g. 38\, Utena
CATEGORIES:Sporto renginiai visiems
ATTACH;FMTTYPE=image/png:https://utenosdsc.lt/wp-content/uploads/2025/11/smiginio_skelbimas.png
END:VEVENT
END:VCALENDAR