BEGIN:VCALENDAR
VERSION:2.0
PRODID:-//Utenos daugiafunkcis sporto centras - ECPv6.8.2//NONSGML v1.0//EN
CALSCALE:GREGORIAN
METHOD:PUBLISH
X-ORIGINAL-URL:https://utenosdsc.lt
X-WR-CALDESC:Events for Utenos daugiafunkcis sporto centras
REFRESH-INTERVAL;VALUE=DURATION:PT1H
X-Robots-Tag:noindex
X-PUBLISHED-TTL:PT1H
BEGIN:VTIMEZONE
TZID:UTC
BEGIN:STANDARD
TZOFFSETFROM:+0000
TZOFFSETTO:+0000
TZNAME:UTC
DTSTART:20260101T000000
END:STANDARD
END:VTIMEZONE
BEGIN:VEVENT
DTSTART;TZID=UTC:20260411T120000
DTEND;TZID=UTC:20260411T120000
DTSTAMP:20260421T174750
CREATED:20260407T130758Z
LAST-MODIFIED:20260407T130801Z
UID:12353-1775908800-1775908800@utenosdsc.lt
SUMMARY:Utenos daugiafunkcio sporto centro krepšinio turnyro  „Pavasario taurė 2026“ rungtynės. „Vytrolma“ — K. K. „Vaikutėnai“
DESCRIPTION:
URL:https://utenosdsc.lt/renginys/utenos-daugiafunkcio-sporto-centro-krepsinio-turnyro-pavasario-taure-2026-rungtynes-vytrolma-k-k-vaikutenai-2/
LOCATION:Utenos daugiafunkcis sporto centras\, Aušros g. 20\, Utena\, Lietuva
CATEGORIES:Sporto renginiai visiems
END:VEVENT
BEGIN:VEVENT
DTSTART;TZID=UTC:20260412T120000
DTEND;TZID=UTC:20260412T154000
DTSTAMP:20260421T174750
CREATED:20260408T133500Z
LAST-MODIFIED:20260408T133500Z
UID:12380-1775995200-1776008400@utenosdsc.lt
SUMMARY:Utenos daugiafunkcio sporto centro krepšinio turnyro „Pavasario taurė 2026“ FINALAI
DESCRIPTION:
URL:https://utenosdsc.lt/renginys/utenos-daugiafunkcio-sporto-centro-krepsinio-turnyro-pavasario-taure-2026-finalai/
LOCATION:Utenos miesto daugiafunkcis sporto kompleksas\, K. Donelaičio g. 38\, Utena
CATEGORIES:Sporto renginiai visiems
END:VEVENT
BEGIN:VEVENT
DTSTART;TZID=UTC:20260414T120000
DTEND;TZID=UTC:20260414T120000
DTSTAMP:20260421T174750
CREATED:20260411T135752Z
LAST-MODIFIED:20260411T135755Z
UID:12582-1776168000-1776168000@utenosdsc.lt
SUMMARY:Utenos rajono mokyklų pradinių klasių mokinių krepšinio 3x3 varžybos\, skirtos Utenos DSC taurei laimėti
DESCRIPTION:
URL:https://utenosdsc.lt/renginys/utenos-rajono-mokyklu-pradiniu-klasiu-mokiniu-krepsinio-3x3-varzybos-skirtos-utenos-dsc-taurei-laimeti/
LOCATION:Utenos daugiafunkcis sporto centras\, Aušros g. 20\, Utena\, Lietuva
CATEGORIES:Sporto renginiai visiems
END:VEVENT
BEGIN:VEVENT
DTSTART;TZID=UTC:20260418T100000
DTEND;TZID=UTC:20260418T100000
DTSTAMP:20260421T174750
CREATED:20260411T135905Z
LAST-MODIFIED:20260411T135908Z
UID:12586-1776506400-1776506400@utenosdsc.lt
SUMMARY:Utenos daugiafunkcio sporto centro salės tinklinio turnyras  „Pavasario taurė 2026“
DESCRIPTION:
URL:https://utenosdsc.lt/renginys/utenos-daugiafunkcio-sporto-centro-sales-tinklinio-turnyras-pavasario-taure-2026/
LOCATION:Utenos daugiafunkcis sporto centras\, Aušros g. 20\, Utena\, Lietuva
CATEGORIES:Sporto renginiai visiems
END:VEVENT
BEGIN:VEVENT
DTSTART;TZID=UTC:20260418T100000
DTEND;TZID=UTC:20260418T100000
DTSTAMP:20260421T174750
CREATED:20260411T140125Z
LAST-MODIFIED:20260411T140128Z
UID:12594-1776506400-1776506400@utenosdsc.lt
SUMMARY:2026 metų Utenos rajono savivaldybės seniūnijų sporto žaidynės. Futbolas
DESCRIPTION:
URL:https://utenosdsc.lt/renginys/2026-metu-utenos-rajono-savivaldybes-seniuniju-sporto-zaidynes-futbolas/
LOCATION:„Utenio“ stadionas\, Užpalių g. 100\, Utena\, Lietuva
CATEGORIES:Sporto renginiai visiems
END:VEVENT
END:VCALENDAR