BEGIN:VCALENDAR
VERSION:2.0
PRODID:-//Utenos daugiafunkcis sporto centras - ECPv6.8.2//NONSGML v1.0//EN
CALSCALE:GREGORIAN
METHOD:PUBLISH
X-ORIGINAL-URL:https://utenosdsc.lt
X-WR-CALDESC:Events for Utenos daugiafunkcis sporto centras
REFRESH-INTERVAL;VALUE=DURATION:PT1H
X-Robots-Tag:noindex
X-PUBLISHED-TTL:PT1H
BEGIN:VTIMEZONE
TZID:UTC
BEGIN:STANDARD
TZOFFSETFROM:+0000
TZOFFSETTO:+0000
TZNAME:UTC
DTSTART:20240101T000000
END:STANDARD
END:VTIMEZONE
BEGIN:VEVENT
DTSTART;TZID=UTC:20250215T160000
DTEND;TZID=UTC:20250215T160000
DTSTAMP:20260421T213031
CREATED:20250210T133751Z
LAST-MODIFIED:20250210T133831Z
UID:5493-1739635200-1739635200@utenosdsc.lt
SUMMARY:Utenos rajono vyrų krepšinio čempionato finalai
DESCRIPTION:
URL:https://utenosdsc.lt/renginys/utenos-rajono-vyru-krepsinio-cempionato-finalai/
LOCATION:Utenos miesto daugiafunkcis sporto kompleksas\, K. Donelaičio g. 38\, Utena
CATEGORIES:Sporto renginiai visiems
END:VEVENT
BEGIN:VEVENT
DTSTART;TZID=UTC:20250211T200000
DTEND;TZID=UTC:20250211T200000
DTSTAMP:20260421T213031
CREATED:20250210T095927Z
LAST-MODIFIED:20250210T095927Z
UID:5481-1739304000-1739304000@utenosdsc.lt
SUMMARY:Utenos rajono vyrų krepšinio čempionatas
DESCRIPTION:
URL:https://utenosdsc.lt/renginys/utenos-rajono-vyru-krepsinio-cempionatas-20/
LOCATION:Utenos daugiafunkcis sporto centras\, Aušros g. 20\, Utena\, Lietuva
CATEGORIES:Sporto renginiai visiems
END:VEVENT
BEGIN:VEVENT
DTSTART;TZID=UTC:20250209T133000
DTEND;TZID=UTC:20250209T133000
DTSTAMP:20260421T213031
CREATED:20250204T080514Z
LAST-MODIFIED:20250204T080514Z
UID:5455-1739107800-1739107800@utenosdsc.lt
SUMMARY:Utenos rajono vyrų krepšinio čempionatas
DESCRIPTION:
URL:https://utenosdsc.lt/renginys/utenos-rajono-vyru-krepsinio-cempionatas-19/
LOCATION:Utenos daugiafunkcis sporto centras\, Aušros g. 20\, Utena\, Lietuva
CATEGORIES:Sporto renginiai visiems
ATTACH;FMTTYPE=image/png:https://utenosdsc.lt/wp-content/uploads/2024/11/vyrukrepsinio-cempionatas.png
END:VEVENT
BEGIN:VEVENT
DTSTART;TZID=UTC:20250209T110000
DTEND;TZID=UTC:20250209T110000
DTSTAMP:20260421T213031
CREATED:20250204T080949Z
LAST-MODIFIED:20250204T080949Z
UID:5461-1739098800-1739098800@utenosdsc.lt
SUMMARY:Utenos apskrities futbolo federacijos čempionato varžybos. Moterys
DESCRIPTION:
URL:https://utenosdsc.lt/renginys/utenos-apskrities-futbolo-federacijos-cempionato-varzybos-moterys/
LOCATION:Utenos miesto daugiafunkcis sporto kompleksas\, K. Donelaičio g. 38\, Utena
CATEGORIES:Sporto renginiai visiems
END:VEVENT
BEGIN:VEVENT
DTSTART;TZID=UTC:20250209T110000
DTEND;TZID=UTC:20250209T110000
DTSTAMP:20260421T213031
CREATED:20250204T080414Z
LAST-MODIFIED:20250204T080414Z
UID:5453-1739098800-1739098800@utenosdsc.lt
SUMMARY:Utenos rajono vyrų krepšinio čempionatas
DESCRIPTION:
URL:https://utenosdsc.lt/renginys/utenos-rajono-vyru-krepsinio-cempionatas-18/
LOCATION:Utenos daugiafunkcis sporto centras\, Aušros g. 20\, Utena\, Lietuva
CATEGORIES:Sporto renginiai visiems
ATTACH;FMTTYPE=image/png:https://utenosdsc.lt/wp-content/uploads/2024/11/vyrukrepsinio-cempionatas.png
END:VEVENT
BEGIN:VEVENT
DTSTART;VALUE=DATE:20250209
DTEND;VALUE=DATE:20250210
DTSTAMP:20260421T213031
CREATED:20250204T081202Z
LAST-MODIFIED:20250204T081202Z
UID:5465-1739059200-1739145599@utenosdsc.lt
SUMMARY:Stalo tenisas\, I lyga
DESCRIPTION:
URL:https://utenosdsc.lt/renginys/stalo-tenisas-i-lyga-2/
LOCATION:Utenos miesto daugiafunkcis sporto kompleksas\, K. Donelaičio g. 38\, Utena
CATEGORIES:Sporto renginiai visiems
END:VEVENT
BEGIN:VEVENT
DTSTART;TZID=UTC:20250208T153000
DTEND;TZID=UTC:20250208T153000
DTSTAMP:20260421T213031
CREATED:20250204T080240Z
LAST-MODIFIED:20250204T080240Z
UID:5451-1739028600-1739028600@utenosdsc.lt
SUMMARY:Utenos rajono vyrų krepšinio čempionatas
DESCRIPTION:
URL:https://utenosdsc.lt/renginys/utenos-rajono-vyru-krepsinio-cempionatas-17/
LOCATION:Utenos daugiafunkcis sporto centras\, Aušros g. 20\, Utena\, Lietuva
CATEGORIES:Sporto renginiai visiems
ATTACH;FMTTYPE=image/png:https://utenosdsc.lt/wp-content/uploads/2024/11/vyrukrepsinio-cempionatas.png
END:VEVENT
BEGIN:VEVENT
DTSTART;TZID=UTC:20250208T130000
DTEND;TZID=UTC:20250208T130000
DTSTAMP:20260421T213031
CREATED:20250204T080122Z
LAST-MODIFIED:20250204T080122Z
UID:5449-1739019600-1739019600@utenosdsc.lt
SUMMARY:Utenos rajono vyrų krepšinio čempionatas
DESCRIPTION:
URL:https://utenosdsc.lt/renginys/utenos-rajono-vyru-krepsinio-cempionatas-16/
LOCATION:Utenos daugiafunkcis sporto centras\, Aušros g. 20\, Utena\, Lietuva
CATEGORIES:Sporto renginiai visiems
ATTACH;FMTTYPE=image/png:https://utenosdsc.lt/wp-content/uploads/2024/11/vyrukrepsinio-cempionatas.png
END:VEVENT
BEGIN:VEVENT
DTSTART;TZID=UTC:20250208T123000
DTEND;TZID=UTC:20250208T123000
DTSTAMP:20260421T213031
CREATED:20250204T080904Z
LAST-MODIFIED:20250204T080904Z
UID:5459-1739017800-1739017800@utenosdsc.lt
SUMMARY:Utenos apskrities futbolo federacijos čempionato varžybos. Vyrai
DESCRIPTION:
URL:https://utenosdsc.lt/renginys/utenos-apskrities-futbolo-federacijos-cempionato-varzybos-vyrai/
LOCATION:Utenos miesto daugiafunkcis sporto kompleksas\, K. Donelaičio g. 38\, Utena
CATEGORIES:Sporto renginiai visiems
END:VEVENT
BEGIN:VEVENT
DTSTART;VALUE=DATE:20250208
DTEND;VALUE=DATE:20250209
DTSTAMP:20260421T213031
CREATED:20250204T081124Z
LAST-MODIFIED:20250204T081124Z
UID:5463-1738972800-1739059199@utenosdsc.lt
SUMMARY:Stalo tenisas\, I lyga
DESCRIPTION:
URL:https://utenosdsc.lt/renginys/stalo-tenisas-i-lyga/
LOCATION:Utenos miesto daugiafunkcis sporto kompleksas\, K. Donelaičio g. 38\, Utena
CATEGORIES:Sporto renginiai visiems
END:VEVENT
BEGIN:VEVENT
DTSTART;TZID=UTC:20250205T120000
DTEND;TZID=UTC:20250205T120000
DTSTAMP:20260421T213031
CREATED:20250204T081317Z
LAST-MODIFIED:20250204T081317Z
UID:5467-1738756800-1738756800@utenosdsc.lt
SUMMARY:Mokyklų šachmatų varžybos\, skirtos Utenos DSC taurei laimėti
DESCRIPTION:
URL:https://utenosdsc.lt/renginys/mokyklu-sachmatu-varzybos-skirtos-utenos-dsc-taurei-laimeti/
LOCATION:Utenos miesto daugiafunkcis sporto kompleksas\, K. Donelaičio g. 38\, Utena
CATEGORIES:Sporto renginiai visiems
END:VEVENT
BEGIN:VEVENT
DTSTART;TZID=UTC:20250202T160000
DTEND;TZID=UTC:20250202T160000
DTSTAMP:20260421T213031
CREATED:20250127T091913Z
LAST-MODIFIED:20250127T091913Z
UID:5353-1738512000-1738512000@utenosdsc.lt
SUMMARY:Utenos rajono vyrų krepšinio čempionatas
DESCRIPTION:
URL:https://utenosdsc.lt/renginys/utenos-rajono-vyru-krepsinio-cempionatas-15/
LOCATION:Utenos daugiafunkcis sporto centras\, Aušros g. 20\, Utena\, Lietuva
CATEGORIES:Sporto renginiai visiems
ATTACH;FMTTYPE=image/png:https://utenosdsc.lt/wp-content/uploads/2024/11/renginiaivisiems.png
END:VEVENT
BEGIN:VEVENT
DTSTART;TZID=UTC:20250202T110000
DTEND;TZID=UTC:20250202T110000
DTSTAMP:20260421T213031
CREATED:20250127T091737Z
LAST-MODIFIED:20250127T091744Z
UID:5351-1738494000-1738494000@utenosdsc.lt
SUMMARY:Utenos rajono vyrų krepšinio čempionatas
DESCRIPTION:
URL:https://utenosdsc.lt/renginys/utenos-rajono-vyru-krepsinio-cempionatas-14/
LOCATION:Utenos daugiafunkcis sporto centras\, Aušros g. 20\, Utena\, Lietuva
CATEGORIES:Sporto renginiai visiems
ATTACH;FMTTYPE=image/png:https://utenosdsc.lt/wp-content/uploads/2024/11/renginiaivisiems.png
END:VEVENT
BEGIN:VEVENT
DTSTART;VALUE=DATE:20250202
DTEND;VALUE=DATE:20250203
DTSTAMP:20260421T213031
CREATED:20250127T092942Z
LAST-MODIFIED:20250127T092942Z
UID:5372-1738454400-1738540799@utenosdsc.lt
SUMMARY:Arenos maratonas
DESCRIPTION:
URL:https://utenosdsc.lt/renginys/arenos-maratonas/
LOCATION:Utenos miesto daugiafunkcis sporto kompleksas\, K. Donelaičio g. 38\, Utena
CATEGORIES:Sporto renginiai visiems
END:VEVENT
BEGIN:VEVENT
DTSTART;TZID=UTC:20250201T130000
DTEND;TZID=UTC:20250201T130000
DTSTAMP:20260421T213031
CREATED:20250127T092417Z
LAST-MODIFIED:20250127T092417Z
UID:5360-1738414800-1738414800@utenosdsc.lt
SUMMARY:UAFF Veteranai
DESCRIPTION:
URL:https://utenosdsc.lt/renginys/uaff-veteranai/
LOCATION:Utenos miesto daugiafunkcis sporto kompleksas\, K. Donelaičio g. 38\, Utena
CATEGORIES:Sporto renginiai visiems
END:VEVENT
BEGIN:VEVENT
DTSTART;VALUE=DATE:20250201
DTEND;VALUE=DATE:20250202
DTSTAMP:20260421T213031
CREATED:20250127T092906Z
LAST-MODIFIED:20250127T092906Z
UID:5370-1738368000-1738454399@utenosdsc.lt
SUMMARY:Šaudymo iš lanko Lietuvos čempionatas
DESCRIPTION:
URL:https://utenosdsc.lt/renginys/saudymo-is-lanko-lietuvos-cempionatas/
LOCATION:Utenos miesto daugiafunkcis sporto kompleksas\, K. Donelaičio g. 38\, Utena
CATEGORIES:Sporto renginiai visiems
END:VEVENT
BEGIN:VEVENT
DTSTART;TZID=UTC:20250126T110000
DTEND;TZID=UTC:20250126T110000
DTSTAMP:20260421T213031
CREATED:20250121T145810Z
LAST-MODIFIED:20250121T145810Z
UID:5302-1737889200-1737889200@utenosdsc.lt
SUMMARY:Utenos rajono vyrų krepšinio čempionatas
DESCRIPTION:
URL:https://utenosdsc.lt/renginys/utenos-rajono-vyru-krepsinio-cempionatas-13/
LOCATION:Utenos daugiafunkcis sporto centras\, Aušros g. 20\, Utena\, Lietuva
CATEGORIES:Sporto renginiai visiems
END:VEVENT
BEGIN:VEVENT
DTSTART;TZID=UTC:20250125T180000
DTEND;TZID=UTC:20250125T180000
DTSTAMP:20260421T213031
CREATED:20250121T145604Z
LAST-MODIFIED:20250121T145604Z
UID:5300-1737828000-1737828000@utenosdsc.lt
SUMMARY:Utenos rajono vyrų krepšinio čempionatas
DESCRIPTION:
URL:https://utenosdsc.lt/renginys/utenos-rajono-vyru-krepsinio-cempionatas-12/
LOCATION:Utenos daugiafunkcis sporto centras\, Aušros g. 20\, Utena\, Lietuva
CATEGORIES:Sporto renginiai visiems
ATTACH;FMTTYPE=image/png:https://utenosdsc.lt/wp-content/uploads/2024/11/renginiaivisiems.png
END:VEVENT
BEGIN:VEVENT
DTSTART;TZID=UTC:20250119T110000
DTEND;TZID=UTC:20250119T110000
DTSTAMP:20260421T213031
CREATED:20250113T132925Z
LAST-MODIFIED:20250113T134014Z
UID:5250-1737284400-1737284400@utenosdsc.lt
SUMMARY:Utenos rajono vyrų krepšinio čempionatas
DESCRIPTION:
URL:https://utenosdsc.lt/renginys/utenos-rajono-vyru-krepsinio-cempionatas-10/
LOCATION:Utenos daugiafunkcis sporto centras\, Aušros g. 20\, Utena\, Lietuva
CATEGORIES:Sporto renginiai visiems
END:VEVENT
BEGIN:VEVENT
DTSTART;TZID=UTC:20250116T163000
DTEND;TZID=UTC:20250116T163000
DTSTAMP:20260421T213031
CREATED:20250113T132701Z
LAST-MODIFIED:20250113T132701Z
UID:5246-1737045000-1737045000@utenosdsc.lt
SUMMARY:U12 Utenos DSC II - Laikas sportuoti
DESCRIPTION:
URL:https://utenosdsc.lt/renginys/u12-utenos-dsc-ii-laikas-sportuoti/
LOCATION:Utenos daugiafunkcis sporto centras\, Aušros g. 20\, Utena\, Lietuva
CATEGORIES:Sporto renginiai visiems
END:VEVENT
BEGIN:VEVENT
DTSTART;TZID=UTC:20250116T150000
DTEND;TZID=UTC:20250116T150000
DTSTAMP:20260421T213031
CREATED:20250113T132604Z
LAST-MODIFIED:20250113T132604Z
UID:5244-1737039600-1737039600@utenosdsc.lt
SUMMARY:U12 Utenos DSC I - Laikas sportuoti
DESCRIPTION:
URL:https://utenosdsc.lt/renginys/u12-utenos-dsc-i-laikas-sportuoti/
LOCATION:Utenos daugiafunkcis sporto centras\, Aušros g. 20\, Utena\, Lietuva
CATEGORIES:Sporto renginiai visiems
END:VEVENT
BEGIN:VEVENT
DTSTART;TZID=UTC:20241222T110000
DTEND;TZID=UTC:20241222T110000
DTSTAMP:20260421T213031
CREATED:20241217T145510Z
LAST-MODIFIED:20241217T145542Z
UID:5171-1734865200-1734865200@utenosdsc.lt
SUMMARY:Utenos rajono vyrų krepšinio čempionatas
DESCRIPTION:
URL:https://utenosdsc.lt/renginys/utenos-rajono-vyru-krepsinio-cempionatas-8/
LOCATION:Utenos daugiafunkcis sporto centras\, Aušros g. 20\, Utena\, Lietuva
CATEGORIES:Sporto renginiai visiems
ATTACH;FMTTYPE=image/png:https://utenosdsc.lt/wp-content/uploads/2024/11/renginiaivisiems.png
END:VEVENT
BEGIN:VEVENT
DTSTART;TZID=UTC:20241221T130000
DTEND;TZID=UTC:20241221T130000
DTSTAMP:20260421T213031
CREATED:20241217T145410Z
LAST-MODIFIED:20241217T145619Z
UID:5169-1734786000-1734786000@utenosdsc.lt
SUMMARY:Utenos rajono vyrų krepšinio čempionatas
DESCRIPTION:
URL:https://utenosdsc.lt/renginys/utenos-rajono-vyru-krepsinio-cempionatas-7/
LOCATION:Utenos daugiafunkcis sporto centras\, Aušros g. 20\, Utena\, Lietuva
CATEGORIES:Sporto renginiai visiems
ATTACH;FMTTYPE=image/png:https://utenosdsc.lt/wp-content/uploads/2024/11/renginiaivisiems.png
END:VEVENT
BEGIN:VEVENT
DTSTART;TZID=UTC:20241215T100000
DTEND;TZID=UTC:20241215T170000
DTSTAMP:20260421T213031
CREATED:20241125T092601Z
LAST-MODIFIED:20241125T150904Z
UID:4963-1734256800-1734282000@utenosdsc.lt
SUMMARY:ATVIRAS UTENOS APSKRITIES KALĖDINIS TINKLINIO TURNYRAS
DESCRIPTION:  \nATVIRO UTENOS APSKRITIES KALĖDINIO TINKLINIO TURNYRO \nNUOSTATAI \n  \nI SKYRIUS \nTIKSLAI IR UŽDAVINIAI \n  \n\ndidinti Lietuvos gyventojų fizinį aktyvumą;\nskatinti fizinio aktyvumo veiklas rajone ir mieste;\nišaiškinti stipriausias tinklinio komandas;\ngerinti bendruomenių tarpusavio supratimą\, toleranciją.\n\n  \nII SKYRIUS \nLAIKAS IR VIETA \n  \n\nAtviro Utenos apskrities kalėdinio tinklinio turnyro (toliau – Turnyras) laikas – 2024 m. gruodžio 15 d. 10.00 val.\nTurnyro vieta – Utenos daugiafunkcio sporto centro salė (Aušros g. 20).\nTurnyrą vykdo Utenos DSC.\nTurnyro vyr. teisėjas Virginijus Bieliauskas.\n\n  \nIII SKYRIUS \nDALYVIAI \n  \n\nTurnyre gali dalyvauti visos užsiregistravusios tinklinio mėgėjų komandos.\nTurnyre gali dalyvauti visos tinklinio mėgėjų komandos. Komandos sudėtis: 6 žaidėjai\, atsarginiai žaidėjai\, treneris.\nKomandos gali būti mišrios.\nVaržybose kviečiamos dalyvauti Ignalinos\, Utenos\, Anykščių\, Panevėžio\, Visagino komandos.\nRegistracija vyksta iki 2024-12-12 d. 17.00 val. formoje https://forms.gle/YSKfLut6VUu7zTfa7.\n\n\nTurnyras nerengiamas\, jei užsiregistravo mažiau negu 3 komandos.\n\n\nStartinis mokestis – 4 eurai vienam Turnyro dalyviui.\nTurnyre leidžiama dalyvauti tinklinio komandoms\, iki Turnyro dienos sumokėjusioms dalyvio mokestį į Utenos daugiafunkcio sporto centro sąskaitą LT167181100002130838.\n\n  \nIV SKYRIUS \nSPORTO RENGINIO SISTEMA\, PROGRAMA IR VYKDYMO SĄLYGOS \n  \n\nTurnyras vykdomos pagal galiojančias salės tinklinio taisykles iki dviejų pergalių.\nTurnyro sistema nustatoma pagal užsiregistravusių komandų skaičių.\n\n  \nV SKYRIUS \nPARAIŠKOS \n  \n\nKomandų vadovai\, atvykę į Turnyrą\, teisėjų kolegijai pateikia vardines paraiškas.\nVisi žaidėjai privalo pasitikrinti savo sveikatą ir rungtyniauti tik įsitikinę\, kad jų sveikatos būklė tinkama.\nUž žaidėjų sveikatos sutrikimus Turnyro metu organizatoriai neatsako.\nVisi dalyviai Turnyre dalyvauja laisva valia\, prisiima visą su dalyvavimu jose susijusią (įskaitant sveikatos sutrikimus) riziką.\n\n  \n  \nVI SKYRIUS \nNUGALĖTOJŲ IŠAIŠKINIMAS IR APDOVANOJIMAS \n  \n\nTurnyro nugalėtojas nustatomas:\n\npagal didžiausią surinktų taškų skaičių;\ndviem ar daugiau komandų surinkus vienodą taškų skaičių\, vieta nustatoma pagal tarpusavio susitikimą (laimėjimas\, pralaimėjimas)\, pagal geresnį laimėjimų\, pralaimėjimų santykį.\n\n\nKomandos Turnyro nugalėtojos (trys pirmos vietos) apdovanojamos taurėmis\, komandų prizininkių žaidėjai – medaliais.\n\n  \nVII SKYRIUS \nBAIGIAMOSIOS NUOSTATOS \n  \n\nInformuojame\, kad visuomenės informavimo tikslu Turnyro metu bus fotografuojama ir / ar filmuojama\, todėl Jūs galite būti matomi nuotraukose ir vaizdo įrašuose. Šio renginio nuotraukos ir vaizdo įrašai bus skelbiami organizatorių interneto svetainėje ir socialinių tinklų paskyrose bei platinami įvairiose žiniasklaidos priemonėse. Dėl išsamesnės informacijos prašome kreiptis į organizatorius.\n\n  \n_________________________ \nNuostatus parengė: \nSpecialistė sporto renginiams ir projektams \nJurgita Ulkienė \nTel. +370 644 08881
URL:https://utenosdsc.lt/renginys/atviras-utenos-apskirties-kaledinis-tinklinio-turnyras/
LOCATION:Utenos daugiafunkcis sporto centras\, Aušros g. 20\, Utena\, Lietuva
CATEGORIES:Sporto renginiai visiems
ATTACH;FMTTYPE=image/png:https://utenosdsc.lt/wp-content/uploads/2024/11/renginiaivisiems.png
END:VEVENT
BEGIN:VEVENT
DTSTART;TZID=UTC:20241201T110000
DTEND;TZID=UTC:20241201T110000
DTSTAMP:20260421T213031
CREATED:20241125T084230Z
LAST-MODIFIED:20241125T084236Z
UID:4947-1733050800-1733050800@utenosdsc.lt
SUMMARY:Utenos rajono vyrų krepšinio čempionatas
DESCRIPTION:
URL:https://utenosdsc.lt/renginys/utenos-rajono-vyru-krepsinio-cempionatas-4/
LOCATION:Utenos daugiafunkcis sporto centras\, Aušros g. 20\, Utena\, Lietuva
CATEGORIES:Sporto renginiai visiems
ATTACH;FMTTYPE=image/png:https://utenosdsc.lt/wp-content/uploads/2024/11/renginiaivisiems.png
END:VEVENT
BEGIN:VEVENT
DTSTART;TZID=UTC:20241130T170000
DTEND;TZID=UTC:20241130T170000
DTSTAMP:20260421T213031
CREATED:20241125T084130Z
LAST-MODIFIED:20241125T084130Z
UID:4945-1732986000-1732986000@utenosdsc.lt
SUMMARY:Utenos rajono vyrų krepšinio čempionatas
DESCRIPTION:
URL:https://utenosdsc.lt/renginys/utenos-rajono-vyru-krepsinio-cempionatas-3/
LOCATION:Utenos daugiafunkcis sporto centras\, Aušros g. 20\, Utena\, Lietuva
CATEGORIES:Sporto renginiai visiems
ATTACH;FMTTYPE=image/png:https://utenosdsc.lt/wp-content/uploads/2024/11/renginiaivisiems.png
END:VEVENT
BEGIN:VEVENT
DTSTART;TZID=UTC:20241130T140000
DTEND;TZID=UTC:20241130T140000
DTSTAMP:20260421T213031
CREATED:20241125T084016Z
LAST-MODIFIED:20241125T084022Z
UID:4943-1732975200-1732975200@utenosdsc.lt
SUMMARY:Regionų krepšinio lyga. Juventus - Kaišiadorių Savingė
DESCRIPTION:
URL:https://utenosdsc.lt/renginys/regionu-krepsinio-lyga-juventus-kaisiadoriu-savinge/
LOCATION:Utenos daugiafunkcis sporto centras\, Aušros g. 20\, Utena\, Lietuva
CATEGORIES:Sporto renginiai visiems
ATTACH;FMTTYPE=image/png:https://utenosdsc.lt/wp-content/uploads/2024/11/renginiaivisiems.png
END:VEVENT
BEGIN:VEVENT
DTSTART;TZID=UTC:20241130T100000
DTEND;TZID=UTC:20241130T120000
DTSTAMP:20260421T213031
CREATED:20241120T192919Z
LAST-MODIFIED:20241121T140332Z
UID:4856-1732960800-1732968000@utenosdsc.lt
SUMMARY:UTENOS RAJONO ASMENINIŲ STALO TENISO PIRMENYBĖS
DESCRIPTION:N U O S T A T A I\n\n\n\n\n\n\n\n\n\n\n\nI SKYRIUS\nTIKSLAI IR UŽDAVINIAI\n\npopuliarinti stalo teniso žaidimą Utenos rajone;\nišsiaiškinti stipriausias Utenos rajono stalo tenisininkes ir tenisininkus;\norganizuoti turiningą gyventojų laisvalaikį.\natgaivinti stalo teniso tradicijas rajone.\n\nII SKYRIUS\nLAIKAS IR VIETA\n\nUtenos rajono asmeninės stalo teniso pirmenybės (toliau – Pirmenybės) vykdomos 2024 m. lapkričio 30 d. 10.00 val. Utenos daugiafunkcio sporto centro treniruočių salėje.\nRegistracija į Pirmenybes vyksta iki 2024-11-27 17.00 val. el. paštu renginiai@utenosdsc.lt.\nPirmenybes organizuoja Utenos DSC.\nPirmenybės grupėje nerengiamos\, jei užsiregistravo mažiau negu 3 dalyviai. Jei abejose grupėse užsiregistravo mažiau nei trys dalyviai\, Pirmenybės nerengiamos visai.\nPirmenybių vyr. teisėjas Stasys Vladarskis.\n\nIII SKYRIUS\nDALYVIAI\n\nPirmenybių dalyvių amžius neribojamas.\nPirmenybės vyks atskirai vyrų ir moterų grupėse.\nStartinis mokestis – 4 eurai vienam suaugusiajam Pirmenybių dalyviui\, nepilnamečiam asmeniui iki 18 metų – 2 eurai.\nPirmenybėse leidžiama dalyvauti stalo tenisininkams\, iki varžybų dienos sumokėjusiems dalyvio mokestį į Utenos daugiafunkcio sporto centro sąskaitą LT167181100002130838.\nUž žaidėjų sveikatos sutrikimus Pirmenybių metu organizatoriai neatsako.\nVisi dalyviai Pirmenybėse dalyvauja laisva valia ir prisiima visą su dalyvavimu jose susijusią (įskaitant sveikatos sutrikimus) riziką.\n\nIV SKYRIUS\nSPORTO RENGINIO SISTEMA\, PROGRAMA IR VYKDYMO SĄLYGOS\n\nPirmenybių vykdymo sistema nustatoma pagal užsiregistravusių dalyvių skaičių kiekvienoje grupėje.\n\nV SKYRIUS\nNUGALĖTOJŲ IŠAIŠKINIMAS IR APDOVANOJIMAS\n\nPirmenybių prizininkai (pirmos trys vietos) apdovanojami Utenos DSC taurėmis ir medaliais.\n\nVI SKYRIUS\nBAIGIAMOSIOS NUOSTATOS\n\nInformuojame\, kad visuomenės informavimo tikslais Pirmenybių metu bus fotografuojama ir / ar filmuojama\, todėl Jūs galite būti matomi nuotraukose ir vaizdo įrašuose. Šio renginio nuotraukos ir vaizdo įrašai bus skelbiami organizatorių interneto svetainėje ir socialinių tinklų paskyrose bei platinami įvairiose žiniasklaidos priemonėse. Dėl išsamesnės informacijos prašome kreiptis į organizatorius.\n\n_________________________ \nNuostatus parengė: \nSpecialistė sporto renginiams ir projektams\nJurgita Ulkienė\nTel. 8 389 61 846 \n\n\n\n\n\n\n\n\n\n\n\n 
URL:https://utenosdsc.lt/renginys/utenos-rajono-asmeniniu-stalo-teniso-pirmenybes/
LOCATION:Utenos miesto daugiafunkcis sporto kompleksas\, K. Donelaičio g. 38\, Utena
CATEGORIES:Sporto renginiai visiems
ATTACH;FMTTYPE=image/png:https://utenosdsc.lt/wp-content/uploads/2024/11/renginiaivisiems.png
END:VEVENT
BEGIN:VEVENT
DTSTART;TZID=UTC:20241124T140000
DTEND;TZID=UTC:20241124T140000
DTSTAMP:20260421T213031
CREATED:20241119T115520Z
LAST-MODIFIED:20241121T140344Z
UID:4832-1732456800-1732456800@utenosdsc.lt
SUMMARY:Utenos raj. vyrų krepšinio čempionatas. Užpaliai - Utenos DSC
DESCRIPTION:
URL:https://utenosdsc.lt/renginys/utenos-raj-vyru-krepsinio-cempionatas-4/
LOCATION:Utenos daugiafunkcis sporto centras\, Aušros g. 20\, Utena\, Lietuva
CATEGORIES:Sporto renginiai visiems
ATTACH;FMTTYPE=image/png:https://utenosdsc.lt/wp-content/uploads/2024/11/vyrukrepsinio-cempionatas.png
END:VEVENT
BEGIN:VEVENT
DTSTART;TZID=UTC:20241124T110000
DTEND;TZID=UTC:20241124T110000
DTSTAMP:20260421T213031
CREATED:20241119T115448Z
LAST-MODIFIED:20241121T140349Z
UID:4830-1732446000-1732446000@utenosdsc.lt
SUMMARY:Utenos raj. vyrų krepšinio čempionatas. UTA Juventus - Kerų sistemos
DESCRIPTION:
URL:https://utenosdsc.lt/renginys/utenos-raj-vyru-krepsinio-cempionatas-3/
LOCATION:Utenos daugiafunkcis sporto centras\, Aušros g. 20\, Utena\, Lietuva
CATEGORIES:Sporto renginiai visiems
ATTACH;FMTTYPE=image/png:https://utenosdsc.lt/wp-content/uploads/2024/11/vyrukrepsinio-cempionatas.png
END:VEVENT
END:VCALENDAR