BEGIN:VCALENDAR
VERSION:2.0
PRODID:-//Utenos daugiafunkcis sporto centras - ECPv6.8.2//NONSGML v1.0//EN
CALSCALE:GREGORIAN
METHOD:PUBLISH
X-ORIGINAL-URL:https://utenosdsc.lt
X-WR-CALDESC:Events for Utenos daugiafunkcis sporto centras
REFRESH-INTERVAL;VALUE=DURATION:PT1H
X-Robots-Tag:noindex
X-PUBLISHED-TTL:PT1H
BEGIN:VTIMEZONE
TZID:UTC
BEGIN:STANDARD
TZOFFSETFROM:+0000
TZOFFSETTO:+0000
TZNAME:UTC
DTSTART:20260101T000000
END:STANDARD
END:VTIMEZONE
BEGIN:VEVENT
DTSTART;TZID=UTC:20260412T120000
DTEND;TZID=UTC:20260412T154000
DTSTAMP:20260421T092801
CREATED:20260408T133500Z
LAST-MODIFIED:20260408T133500Z
UID:12380-1775995200-1776008400@utenosdsc.lt
SUMMARY:Utenos daugiafunkcio sporto centro krepšinio turnyro „Pavasario taurė 2026“ FINALAI
DESCRIPTION:
URL:https://utenosdsc.lt/renginys/utenos-daugiafunkcio-sporto-centro-krepsinio-turnyro-pavasario-taure-2026-finalai/
LOCATION:Utenos miesto daugiafunkcis sporto kompleksas\, K. Donelaičio g. 38\, Utena
CATEGORIES:Sporto renginiai visiems
END:VEVENT
END:VCALENDAR