BEGIN:VCALENDAR
VERSION:2.0
PRODID:-//Utenos daugiafunkcis sporto centras - ECPv6.8.2//NONSGML v1.0//EN
CALSCALE:GREGORIAN
METHOD:PUBLISH
X-ORIGINAL-URL:https://utenosdsc.lt
X-WR-CALDESC:Events for Utenos daugiafunkcis sporto centras
REFRESH-INTERVAL;VALUE=DURATION:PT1H
X-Robots-Tag:noindex
X-PUBLISHED-TTL:PT1H
BEGIN:VTIMEZONE
TZID:UTC
BEGIN:STANDARD
TZOFFSETFROM:+0000
TZOFFSETTO:+0000
TZNAME:UTC
DTSTART:20260101T000000
END:STANDARD
END:VTIMEZONE
BEGIN:VEVENT
DTSTART;TZID=UTC:20260324T110000
DTEND;TZID=UTC:20260324T110000
DTSTAMP:20260421T104808
CREATED:20260323T185429Z
LAST-MODIFIED:20260323T185429Z
UID:11860-1774350000-1774350000@utenosdsc.lt
SUMMARY:Utenos r. mokyklų mokinių kliūčių kroso varžybos\, skirtos Utenos DSC taurei laimėti
DESCRIPTION:
URL:https://utenosdsc.lt/renginys/utenos-r-mokyklu-mokiniu-kliuciu-kroso-varzybos-skirtos-utenos-dsc-taurei-laimeti/
LOCATION:Utenos miesto daugiafunkcis sporto kompleksas\, K. Donelaičio g. 38\, Utena
CATEGORIES:Sporto renginiai visiems
END:VEVENT
END:VCALENDAR