BEGIN:VCALENDAR
VERSION:2.0
PRODID:-//Utenos daugiafunkcis sporto centras - ECPv6.8.2//NONSGML v1.0//EN
CALSCALE:GREGORIAN
METHOD:PUBLISH
X-WR-CALNAME:Utenos daugiafunkcis sporto centras
X-ORIGINAL-URL:https://utenosdsc.lt
X-WR-CALDESC:Events for Utenos daugiafunkcis sporto centras
REFRESH-INTERVAL;VALUE=DURATION:PT1H
X-Robots-Tag:noindex
X-PUBLISHED-TTL:PT1H
BEGIN:VTIMEZONE
TZID:UTC
BEGIN:STANDARD
TZOFFSETFROM:+0000
TZOFFSETTO:+0000
TZNAME:UTC
DTSTART:20260101T000000
END:STANDARD
END:VTIMEZONE
BEGIN:VEVENT
DTSTART;TZID=UTC:20260321T090000
DTEND;TZID=UTC:20260321T090000
DTSTAMP:20260421T104358
CREATED:20260315T182103Z
LAST-MODIFIED:20260315T182109Z
UID:11670-1774083600-1774083600@utenosdsc.lt
SUMMARY:2026 metų Utenos rajono savivaldybės seniūnijų sporto žaidynės. Smiginis
DESCRIPTION:
URL:https://utenosdsc.lt/renginys/2026-metu-utenos-rajono-savivaldybes-seniuniju-sporto-zaidynes-smiginis/
LOCATION:Utenos miesto daugiafunkcis sporto kompleksas\, K. Donelaičio g. 38\, Utena
CATEGORIES:Sporto renginiai visiems
END:VEVENT
BEGIN:VEVENT
DTSTART;TZID=UTC:20260321T100000
DTEND;TZID=UTC:20260321T100000
DTSTAMP:20260421T104358
CREATED:20260315T182146Z
LAST-MODIFIED:20260315T182146Z
UID:11672-1774087200-1774087200@utenosdsc.lt
SUMMARY:2026 metų Utenos rajono savivaldybės seniūnijų sporto žaidynės. Šaškės
DESCRIPTION:
URL:https://utenosdsc.lt/renginys/2026-metu-utenos-rajono-savivaldybes-seniuniju-sporto-zaidynes-saskes/
LOCATION:Utenos miesto daugiafunkcis sporto kompleksas\, K. Donelaičio g. 38\, Utena
CATEGORIES:Sporto renginiai visiems
END:VEVENT
BEGIN:VEVENT
DTSTART;TZID=UTC:20260321T100000
DTEND;TZID=UTC:20260321T100000
DTSTAMP:20260421T104358
CREATED:20260316T075928Z
LAST-MODIFIED:20260316T075932Z
UID:11694-1774087200-1774087200@utenosdsc.lt
SUMMARY:Lietuvos pirmos lygos moterų rankinio finalinis ketvertas. Kova dėl 3 vietos
DESCRIPTION:
URL:https://utenosdsc.lt/renginys/lietuvos-pirmos-lygos-moteru-rankinio-finalinis-ketvertas-kova-del-3-vietos/
LOCATION:Utenos miesto daugiafunkcis sporto kompleksas\, K. Donelaičio g. 38\, Utena
CATEGORIES:Sporto renginiai visiems
END:VEVENT
BEGIN:VEVENT
DTSTART;TZID=UTC:20260321T120000
DTEND;TZID=UTC:20260321T120000
DTSTAMP:20260421T104358
CREATED:20260316T080004Z
LAST-MODIFIED:20260316T080007Z
UID:11696-1774094400-1774094400@utenosdsc.lt
SUMMARY:Lietuvos pirmos lygos moterų rankinio finalinis ketvertas. Finalas
DESCRIPTION:
URL:https://utenosdsc.lt/renginys/lietuvos-pirmos-lygos-moteru-rankinio-finalinis-ketvertas-finalas/
LOCATION:Utenos miesto daugiafunkcis sporto kompleksas\, K. Donelaičio g. 38\, Utena
CATEGORIES:Sporto renginiai visiems
END:VEVENT
BEGIN:VEVENT
DTSTART;TZID=UTC:20260321T130000
DTEND;TZID=UTC:20260321T130000
DTSTAMP:20260421T104358
CREATED:20260316T074223Z
LAST-MODIFIED:20260316T074226Z
UID:11682-1774098000-1774098000@utenosdsc.lt
SUMMARY:Utenos daugiafunkcio sporto centro krepšinio turnyro  „Pavasario taurė 2026“ rungtynės. UDSC — „Kerų sistemos“
DESCRIPTION:
URL:https://utenosdsc.lt/renginys/utenos-daugiafunkcio-sporto-centro-krepsinio-turnyro-pavasario-taure-2026-rungtynes-udsc-keru-sistemos/
LOCATION:Utenos daugiafunkcis sporto centras\, Aušros g. 20\, Utena\, Lietuva
CATEGORIES:Sporto renginiai visiems
END:VEVENT
BEGIN:VEVENT
DTSTART;TZID=UTC:20260321T144500
DTEND;TZID=UTC:20260321T144500
DTSTAMP:20260421T104358
CREATED:20260316T074247Z
LAST-MODIFIED:20260316T074249Z
UID:11684-1774104300-1774104300@utenosdsc.lt
SUMMARY:Utenos daugiafunkcio sporto centro krepšinio turnyro  „Pavasario taurė 2026“ rungtynės. „Vytrolma“ — K. K. „Vaikutėnai“
DESCRIPTION:
URL:https://utenosdsc.lt/renginys/utenos-daugiafunkcio-sporto-centro-krepsinio-turnyro-pavasario-taure-2026-rungtynes-vytrolma-k-k-vaikutenai/
LOCATION:Utenos daugiafunkcis sporto centras\, Aušros g. 20\, Utena\, Lietuva
CATEGORIES:Sporto renginiai visiems
END:VEVENT
END:VCALENDAR