BEGIN:VCALENDAR
VERSION:2.0
PRODID:-//Utenos daugiafunkcis sporto centras - ECPv6.8.2//NONSGML v1.0//EN
CALSCALE:GREGORIAN
METHOD:PUBLISH
X-WR-CALNAME:Utenos daugiafunkcis sporto centras
X-ORIGINAL-URL:https://utenosdsc.lt
X-WR-CALDESC:Events for Utenos daugiafunkcis sporto centras
REFRESH-INTERVAL;VALUE=DURATION:PT1H
X-Robots-Tag:noindex
X-PUBLISHED-TTL:PT1H
BEGIN:VTIMEZONE
TZID:UTC
BEGIN:STANDARD
TZOFFSETFROM:+0000
TZOFFSETTO:+0000
TZNAME:UTC
DTSTART:20260101T000000
END:STANDARD
END:VTIMEZONE
BEGIN:VEVENT
DTSTART;TZID=UTC:20260311T100000
DTEND;TZID=UTC:20260311T100000
DTSTAMP:20260421T105108
CREATED:20260309T091350Z
LAST-MODIFIED:20260309T091355Z
UID:11530-1773223200-1773223200@utenosdsc.lt
SUMMARY:Krepšinio 3x3 šventė\, skirta Lietuvos nepriklausomybės atkūrimo  dienai paminėti
DESCRIPTION:
URL:https://utenosdsc.lt/renginys/krepsinio-3x3-svente-skirta-lietuvos-nepriklausomybes-atkurimo-dienai-pamineti/
LOCATION:Utenos miesto daugiafunkcis sporto kompleksas\, K. Donelaičio g. 38\, Utena
CATEGORIES:Sporto renginiai visiems
END:VEVENT
END:VCALENDAR