BEGIN:VCALENDAR
VERSION:2.0
PRODID:-//Utenos daugiafunkcis sporto centras - ECPv6.8.2//NONSGML v1.0//EN
CALSCALE:GREGORIAN
METHOD:PUBLISH
X-WR-CALNAME:Utenos daugiafunkcis sporto centras
X-ORIGINAL-URL:https://utenosdsc.lt
X-WR-CALDESC:Events for Utenos daugiafunkcis sporto centras
REFRESH-INTERVAL;VALUE=DURATION:PT1H
X-Robots-Tag:noindex
X-PUBLISHED-TTL:PT1H
BEGIN:VTIMEZONE
TZID:UTC
BEGIN:STANDARD
TZOFFSETFROM:+0000
TZOFFSETTO:+0000
TZNAME:UTC
DTSTART:20260101T000000
END:STANDARD
END:VTIMEZONE
BEGIN:VEVENT
DTSTART;TZID=UTC:20260216T120000
DTEND;TZID=UTC:20260311T000000
DTSTAMP:20260421T104552
CREATED:20260213T190122Z
LAST-MODIFIED:20260213T190127Z
UID:10991-1771243200-1773187200@utenosdsc.lt
SUMMARY:Akcija „Įveik savo laisvės ratą“
DESCRIPTION:
URL:https://utenosdsc.lt/renginys/akcija-iveik-savo-laisves-rata/
LOCATION:Utenos Adolfo Šapokos gimnazija\, Paupio g. 1\, Utena\, Lietuva
CATEGORIES:Sporto renginiai visiems
END:VEVENT
BEGIN:VEVENT
DTSTART;TZID=UTC:20260303T110000
DTEND;TZID=UTC:20260303T110000
DTSTAMP:20260421T104552
CREATED:20260227T183056Z
LAST-MODIFIED:20260227T183100Z
UID:11334-1772535600-1772535600@utenosdsc.lt
SUMMARY:Utenos r. mokyklų mokinių 3x3 krepšinio varžybos (2010 m. gim. ir jaun.)\,  skirtos Utenos DSC taurei laimėti
DESCRIPTION:
URL:https://utenosdsc.lt/renginys/utenos-r-mokyklu-mokiniu-3x3-krepsinio-varzybos-2010-m-gim-ir-jaun-skirtos-utenos-dsc-taurei-laimeti/
LOCATION:Utenos daugiafunkcis sporto centras\, Aušros g. 20\, Utena\, Lietuva
CATEGORIES:Sporto renginiai visiems
END:VEVENT
END:VCALENDAR