BEGIN:VCALENDAR
VERSION:2.0
PRODID:-//Utenos daugiafunkcis sporto centras - ECPv6.8.2//NONSGML v1.0//EN
CALSCALE:GREGORIAN
METHOD:PUBLISH
X-WR-CALNAME:Utenos daugiafunkcis sporto centras
X-ORIGINAL-URL:https://utenosdsc.lt
X-WR-CALDESC:Events for Utenos daugiafunkcis sporto centras
REFRESH-INTERVAL;VALUE=DURATION:PT1H
X-Robots-Tag:noindex
X-PUBLISHED-TTL:PT1H
BEGIN:VTIMEZONE
TZID:UTC
BEGIN:STANDARD
TZOFFSETFROM:+0000
TZOFFSETTO:+0000
TZNAME:UTC
DTSTART:20260101T000000
END:STANDARD
END:VTIMEZONE
BEGIN:VEVENT
DTSTART;TZID=UTC:20260216T120000
DTEND;TZID=UTC:20260311T000000
DTSTAMP:20260421T104434
CREATED:20260213T190122Z
LAST-MODIFIED:20260213T190127Z
UID:10991-1771243200-1773187200@utenosdsc.lt
SUMMARY:Akcija „Įveik savo laisvės ratą“
DESCRIPTION:
URL:https://utenosdsc.lt/renginys/akcija-iveik-savo-laisves-rata/
LOCATION:Utenos Adolfo Šapokos gimnazija\, Paupio g. 1\, Utena\, Lietuva
CATEGORIES:Sporto renginiai visiems
END:VEVENT
BEGIN:VEVENT
DTSTART;TZID=UTC:20260301T120000
DTEND;TZID=UTC:20260301T133000
DTSTAMP:20260421T104434
CREATED:20260226T142759Z
LAST-MODIFIED:20260226T142803Z
UID:11317-1772366400-1772371800@utenosdsc.lt
SUMMARY:Utenos daugiafunkcio sporto centro krepšinio tunyras „Pavasario taurė 2026“. UDSC – „Vytrolma“
DESCRIPTION:
URL:https://utenosdsc.lt/renginys/utenos-daugiafunkcio-sporto-centro-krepsinio-tunyras-pavasario-taure-2026-udsc-vytrolma/
LOCATION:Utenos daugiafunkcis sporto centras\, Aušros g. 20\, Utena\, Lietuva
CATEGORIES:Sporto renginiai visiems
END:VEVENT
BEGIN:VEVENT
DTSTART;TZID=UTC:20260301T134500
DTEND;TZID=UTC:20260301T151500
DTSTAMP:20260421T104434
CREATED:20260226T142845Z
LAST-MODIFIED:20260226T142851Z
UID:11319-1772372700-1772378100@utenosdsc.lt
SUMMARY:Utenos daugiafunkcio sporto centro krepšinio tunyras „Pavasario taurė 2026“. Utenos „Komanda“ – „Kerų sistemos“
DESCRIPTION:
URL:https://utenosdsc.lt/renginys/utenos-daugiafunkcio-sporto-centro-krepsinio-tunyras-pavasario-taure-2026-utenos-komanda-keru-sistemos/
LOCATION:Utenos daugiafunkcis sporto centras\, Aušros g. 20\, Utena\, Lietuva
CATEGORIES:Sporto renginiai visiems
END:VEVENT
BEGIN:VEVENT
DTSTART;TZID=UTC:20260301T153000
DTEND;TZID=UTC:20260301T170000
DTSTAMP:20260421T104434
CREATED:20260226T142923Z
LAST-MODIFIED:20260226T142927Z
UID:11321-1772379000-1772384400@utenosdsc.lt
SUMMARY:Utenos daugiafunkcio sporto centro krepšinio tunyras „Pavasario taurė 2026“. „And One“ – K. K. „Vaikutėnai“
DESCRIPTION:
URL:https://utenosdsc.lt/renginys/utenos-daugiafunkcio-sporto-centro-krepsinio-tunyras-pavasario-taure-2026-and-one-k-k-vaikutenai/
LOCATION:Utenos daugiafunkcis sporto centras\, Aušros g. 20\, Utena\, Lietuva
CATEGORIES:Sporto renginiai visiems
END:VEVENT
END:VCALENDAR