BEGIN:VCALENDAR
VERSION:2.0
PRODID:-//Utenos daugiafunkcis sporto centras - ECPv6.8.2//NONSGML v1.0//EN
CALSCALE:GREGORIAN
METHOD:PUBLISH
X-WR-CALNAME:Utenos daugiafunkcis sporto centras
X-ORIGINAL-URL:https://utenosdsc.lt
X-WR-CALDESC:Events for Utenos daugiafunkcis sporto centras
REFRESH-INTERVAL;VALUE=DURATION:PT1H
X-Robots-Tag:noindex
X-PUBLISHED-TTL:PT1H
BEGIN:VTIMEZONE
TZID:UTC
BEGIN:STANDARD
TZOFFSETFROM:+0000
TZOFFSETTO:+0000
TZNAME:UTC
DTSTART:20260101T000000
END:STANDARD
END:VTIMEZONE
BEGIN:VEVENT
DTSTART;TZID=UTC:20260207T100000
DTEND;TZID=UTC:20260207T100000
DTSTAMP:20260421T115213
CREATED:20260201T100827Z
LAST-MODIFIED:20260201T100830Z
UID:10467-1770458400-1770458400@utenosdsc.lt
SUMMARY:Lietuvos stalo teniso komandinis čempionatas - Aukščiausia lyga.  Vyrai 5 turas ir moterys 4 turas.
DESCRIPTION:
URL:https://utenosdsc.lt/renginys/lietuvos-stalo-teniso-komandinis-cempionatas-auksciausia-lyga-vyrai-5-turas-ir-moterys-4-turas/
LOCATION:Utenos miesto daugiafunkcis sporto kompleksas\, K. Donelaičio g. 38\, Utena
CATEGORIES:Sporto renginiai visiems
END:VEVENT
BEGIN:VEVENT
DTSTART;TZID=UTC:20260207T120000
DTEND;TZID=UTC:20260207T120000
DTSTAMP:20260421T115213
CREATED:20260201T100752Z
LAST-MODIFIED:20260201T100755Z
UID:10465-1770465600-1770465600@utenosdsc.lt
SUMMARY:U17 merginų futbolo finalinio ketverto varžybos
DESCRIPTION:
URL:https://utenosdsc.lt/renginys/u17-merginu-futbolo-finalinio-ketverto-varzybos/
LOCATION:Utenos miesto daugiafunkcis sporto kompleksas\, K. Donelaičio g. 38\, Utena
CATEGORIES:Sporto renginiai visiems
END:VEVENT
END:VCALENDAR