BEGIN:VCALENDAR
VERSION:2.0
PRODID:-//Utenos daugiafunkcis sporto centras - ECPv6.8.2//NONSGML v1.0//EN
CALSCALE:GREGORIAN
METHOD:PUBLISH
X-ORIGINAL-URL:https://utenosdsc.lt
X-WR-CALDESC:Events for Utenos daugiafunkcis sporto centras
REFRESH-INTERVAL;VALUE=DURATION:PT1H
X-Robots-Tag:noindex
X-PUBLISHED-TTL:PT1H
BEGIN:VTIMEZONE
TZID:UTC
BEGIN:STANDARD
TZOFFSETFROM:+0000
TZOFFSETTO:+0000
TZNAME:UTC
DTSTART:20250101T000000
END:STANDARD
END:VTIMEZONE
BEGIN:VEVENT
DTSTART;TZID=UTC:20251123T120000
DTEND;TZID=UTC:20251123T200000
DTSTAMP:20260421T155404
CREATED:20251115T143820Z
LAST-MODIFIED:20251115T143824Z
UID:9028-1763899200-1763928000@utenosdsc.lt
SUMMARY:Utenos r. 2025 m. vyrų krepšinio čempionatas
DESCRIPTION:
URL:https://utenosdsc.lt/renginys/utenos-r-2025-m-vyru-krepsinio-cempionatas-2/
LOCATION:Utenos daugiafunkcis sporto centras\, Aušros g. 20\, Utena\, Lietuva
CATEGORIES:Sporto renginiai visiems
END:VEVENT
BEGIN:VEVENT
DTSTART;TZID=UTC:20251123T150000
DTEND;TZID=UTC:20251123T150000
DTSTAMP:20260421T155404
CREATED:20251115T144106Z
LAST-MODIFIED:20251115T144110Z
UID:9036-1763910000-1763910000@utenosdsc.lt
SUMMARY:Kupiškio FC Narjanta varžybos
DESCRIPTION:
URL:https://utenosdsc.lt/renginys/kupiskio-fc-narjanta-varzybos/
LOCATION:Utenos miesto daugiafunkcis sporto kompleksas\, K. Donelaičio g. 38\, Utena
CATEGORIES:Sporto renginiai visiems
END:VEVENT
END:VCALENDAR