BEGIN:VCALENDAR
VERSION:2.0
PRODID:-//Utenos daugiafunkcis sporto centras - ECPv6.8.2//NONSGML v1.0//EN
CALSCALE:GREGORIAN
METHOD:PUBLISH
X-ORIGINAL-URL:https://utenosdsc.lt
X-WR-CALDESC:Events for Utenos daugiafunkcis sporto centras
REFRESH-INTERVAL;VALUE=DURATION:PT1H
X-Robots-Tag:noindex
X-PUBLISHED-TTL:PT1H
BEGIN:VTIMEZONE
TZID:UTC
BEGIN:STANDARD
TZOFFSETFROM:+0000
TZOFFSETTO:+0000
TZNAME:UTC
DTSTART:20240101T000000
END:STANDARD
END:VTIMEZONE
BEGIN:VEVENT
DTSTART;TZID=UTC:20241221T130000
DTEND;TZID=UTC:20241221T130000
DTSTAMP:20260422T051447
CREATED:20241217T145410Z
LAST-MODIFIED:20241217T145619Z
UID:5169-1734786000-1734786000@utenosdsc.lt
SUMMARY:Utenos rajono vyrų krepšinio čempionatas
DESCRIPTION:
URL:https://utenosdsc.lt/renginys/utenos-rajono-vyru-krepsinio-cempionatas-7/
LOCATION:Utenos daugiafunkcis sporto centras\, Aušros g. 20\, Utena\, Lietuva
CATEGORIES:Sporto renginiai visiems
ATTACH;FMTTYPE=image/png:https://utenosdsc.lt/wp-content/uploads/2024/11/renginiaivisiems.png
END:VEVENT
END:VCALENDAR