BEGIN:VCALENDAR
VERSION:2.0
PRODID:-//Utenos daugiafunkcis sporto centras - ECPv6.8.2//NONSGML v1.0//EN
CALSCALE:GREGORIAN
METHOD:PUBLISH
X-WR-CALNAME:Utenos daugiafunkcis sporto centras
X-ORIGINAL-URL:https://utenosdsc.lt
X-WR-CALDESC:Events for Utenos daugiafunkcis sporto centras
REFRESH-INTERVAL;VALUE=DURATION:PT1H
X-Robots-Tag:noindex
X-PUBLISHED-TTL:PT1H
BEGIN:VTIMEZONE
TZID:UTC
BEGIN:STANDARD
TZOFFSETFROM:+0000
TZOFFSETTO:+0000
TZNAME:UTC
DTSTART:20260101T000000
END:STANDARD
END:VTIMEZONE
BEGIN:VEVENT
DTSTART;TZID=UTC:20260116T200000
DTEND;TZID=UTC:20260116T200000
DTSTAMP:20260421T114836
CREATED:20260113T145048Z
LAST-MODIFIED:20260113T145050Z
UID:9926-1768593600-1768593600@utenosdsc.lt
SUMMARY:Lietuvos vyrų 1 lygos rankinio čempionato rungtynės. HC Utena - HC Molėtai
DESCRIPTION:
URL:https://utenosdsc.lt/renginys/lietuvos-vyru-1-lygos-rankinio-cempionato-rungtynes-hc-utena-hc-moletai/
LOCATION:Utenos miesto daugiafunkcis sporto kompleksas\, K. Donelaičio g. 38\, Utena
CATEGORIES:Sporto renginiai visiems
END:VEVENT
BEGIN:VEVENT
DTSTART;TZID=UTC:20260117T110000
DTEND;TZID=UTC:20260117T110000
DTSTAMP:20260421T114836
CREATED:20260113T144156Z
LAST-MODIFIED:20260113T144156Z
UID:9903-1768647600-1768647600@utenosdsc.lt
SUMMARY:Snaigės žygis „Žingsnis po žingsnio Uteną pažinsi“
DESCRIPTION:🚶‍♂️ Snaigės žygis „Žingsnis po žingsnio Uteną pažinsi“\nUtenos daugiafunkcis sporto centras kviečia visus sausio 17 d. 11.00 val. į žiemišką pėsčiųjų žygį\, kurio metu žingsnis po žingsnio pažinsime Utenos apylinkes ir pasimėgausime tikra žiemos atmosfera.\nŽygio metu keliausime miško ir užmiesčio takeliais – eisime per Skaistašilio mišką\, pasieksime Karveliškio viensėdį\, užsuksime į Padbuožės kaimą\, keliausime palei Utenos tvenkinį ir sugrįšime pro Utenos hipodromą. Visos kelionės metu grožėsimės žiemiškais kraštovaizdžiais\, sniegu padengta gamta\, ramybe ir grynu oru.\n📝 REGISTRACIJA\nRegistracija užpildant formą: https://utenosdsc.lt/zingsnis-po-zingsnio-utena-pazinsi/\n🏁 STARTAS IR FINIŠAS\nStartas ir finišas – Utenio stadionas (Užpalių g. 100\, Utena).\n📏 TRASOS ILGIS\n~10 km.\n👟 APRANGA IR AVALYNĖ\nRekomenduojama šilta ir žiemai pritaikyta apranga\, tinkama avalynė žygiui miško ir gamtos takeliais.\nGalima naudotis šiaurietiškojo ėjimo lazdomis.\n🏅 PO ŽYGIO\nKiekvienas dalyvis gaus atminimo medalį\, taip pat karštos košės ir arbatos.\n🎉 RENGINYS NEMOKAMAS\nKviečiame visus – su šeima\, draugais ir gera nuotaika! Matyti mažiau
URL:https://utenosdsc.lt/renginys/snaiges-zygis-zingsnis-po-zingsnio-utena-pazinsi/
LOCATION:„Utenio“ stadionas\, Užpalių g. 100\, Utena\, Lietuva
CATEGORIES:Sporto renginiai visiems
END:VEVENT
BEGIN:VEVENT
DTSTART;TZID=UTC:20260117T120000
DTEND;TZID=UTC:20260117T120000
DTSTAMP:20260421T114836
CREATED:20260113T144247Z
LAST-MODIFIED:20260113T144247Z
UID:9905-1768651200-1768651200@utenosdsc.lt
SUMMARY:„Snaigės“ žygis lygumų slidėmis
DESCRIPTION:🎿 „Snaigės“ žygis lygumų slidėmis\nUtenos daugiafunkcis sporto centras kviečia visus sausio 17 d. 12.00 val. į žiemišką lygumų slidžių žygį\, kurio metu aktyviai praleisime laiką ir pasimėgausime snieguota Utenos gamta.\nŽygio metu lygumų slidėmis judėsime paruoštomis trasomis aplink stadioną ir Skaistašilio miške. Maršrutas pritaikytas mėgėjams – tai puiki galimybė tiek pradedantiesiems\, tiek jau turintiems slidinėjimo patirties pasimėgauti žiemos sportu ramioje\, gamtos apsuptoje aplinkoje.\n📝 REGISTRACIJA\nRegistracija vykdoma užpildant formą čia: https://utenosdsc.lt/snaiges-zygis-lygumu-slidemis/\n🏁 STARTAS IR FINIŠAS\nStartas ir finišas – Utenio stadionas (Užpalių g. 100\, Utena)\n📏 TRASOS ILGIS\nIki 5 km.\n🗺️ MARŠRUTAS\nUtenio stadionas – Skaistašilio miškas (aplink stadioną)\n👕 APRANGA IR INVENTORIUS\nRekomenduojama šiltai ir patogiai žiemai pritaikyta apranga.\nBūtinos lygumų slidės\, batai ir lazdos\, tinkamos slidinėjimui miško trasomis.\n🏅 PO ŽYGIO\nKiekvienas dalyvis gaus atminimo medalį\, taip pat bus vaišinamas karšta koše ir arbata.\n🎉 RENGINYS NEMOKAMAS\nKviečiame visus – su šeima\, draugais ir gera nuotaika
URL:https://utenosdsc.lt/renginys/snaiges-zygis-lygumu-slidemis/
LOCATION:„Utenio“ stadionas\, Užpalių g. 100\, Utena\, Lietuva
CATEGORIES:Sporto renginiai visiems
END:VEVENT
BEGIN:VEVENT
DTSTART;TZID=UTC:20260117T120000
DTEND;TZID=UTC:20260117T120000
DTSTAMP:20260421T114836
CREATED:20260113T145124Z
LAST-MODIFIED:20260113T145127Z
UID:9928-1768651200-1768651200@utenosdsc.lt
SUMMARY:Futbolo varžybos (vyrai/veteranai)
DESCRIPTION:
URL:https://utenosdsc.lt/renginys/futbolo-varzybos-vyrai-veteranai/
LOCATION:Utenos miesto daugiafunkcis sporto kompleksas\, K. Donelaičio g. 38\, Utena
CATEGORIES:Sporto renginiai visiems
END:VEVENT
BEGIN:VEVENT
DTSTART;TZID=UTC:20260117T153000
DTEND;TZID=UTC:20260117T153000
DTSTAMP:20260421T114836
CREATED:20260113T145149Z
LAST-MODIFIED:20260113T145152Z
UID:9930-1768663800-1768663800@utenosdsc.lt
SUMMARY:Futbolo varžybos (merginos\, U17\, pusfinalis)
DESCRIPTION:
URL:https://utenosdsc.lt/renginys/futbolo-varzybos-merginos-u17-pusfinalis/
LOCATION:Utenos miesto daugiafunkcis sporto kompleksas\, K. Donelaičio g. 38\, Utena
CATEGORIES:Sporto renginiai visiems
END:VEVENT
BEGIN:VEVENT
DTSTART;TZID=UTC:20260120T110000
DTEND;TZID=UTC:20260120T110000
DTSTAMP:20260421T114836
CREATED:20260116T183203Z
LAST-MODIFIED:20260119T073508Z
UID:10064-1768906800-1768906800@utenosdsc.lt
SUMMARY:Utenos r. mokyklų mokinių šachmatų varžybos
DESCRIPTION:
URL:https://utenosdsc.lt/renginys/utenos-r-mokyklu-mokiniu-sachmatu-varzybos/
LOCATION:Utenos miesto daugiafunkcis sporto kompleksas\, K. Donelaičio g. 38\, Utena
CATEGORIES:Sporto renginiai visiems
END:VEVENT
BEGIN:VEVENT
DTSTART;TZID=UTC:20260125T130000
DTEND;TZID=UTC:20260125T130000
DTSTAMP:20260421T114836
CREATED:20260116T183324Z
LAST-MODIFIED:20260116T183330Z
UID:10070-1769346000-1769346000@utenosdsc.lt
SUMMARY:Lietuvos moterų 1 lygos rankinio čempionatas. Utenos DSC — Šiaulių SC Dubysa
DESCRIPTION:
URL:https://utenosdsc.lt/renginys/lietuvos-moteru-1-lygos-rankinio-cempionatas-utenos-dsc-siauliu-sc-dubysa/
LOCATION:Utenos miesto daugiafunkcis sporto kompleksas\, K. Donelaičio g. 38\, Utena
CATEGORIES:Sporto renginiai visiems
END:VEVENT
BEGIN:VEVENT
DTSTART;TZID=UTC:20260127T120000
DTEND;TZID=UTC:20260127T120000
DTSTAMP:20260421T114836
CREATED:20260124T122738Z
LAST-MODIFIED:20260124T122741Z
UID:10315-1769515200-1769515200@utenosdsc.lt
SUMMARY:Utenos r. mokyklų pradinių klasių mokinių „DSV“ varžybos\, skirtos Utenos DSC taurei laimėti
DESCRIPTION:
URL:https://utenosdsc.lt/renginys/utenos-r-mokyklu-pradiniu-klasiu-mokiniu-dsv-varzybos-skirtos-utenos-dsc-taurei-laimeti/
LOCATION:Utenos daugiafunkcis sporto centras\, Aušros g. 20\, Utena\, Lietuva
CATEGORIES:Sporto renginiai visiems
END:VEVENT
BEGIN:VEVENT
DTSTART;TZID=UTC:20260131T120000
DTEND;TZID=UTC:20260131T120000
DTSTAMP:20260421T114836
CREATED:20260124T123320Z
LAST-MODIFIED:20260124T123322Z
UID:10336-1769860800-1769860800@utenosdsc.lt
SUMMARY:Futbolas (vyrai/veteranai)
DESCRIPTION:
URL:https://utenosdsc.lt/renginys/futbolas-vyrai-veteranai/
LOCATION:Utenos miesto daugiafunkcis sporto kompleksas\, K. Donelaičio g. 38\, Utena
CATEGORIES:Sporto renginiai visiems
END:VEVENT
END:VCALENDAR