BEGIN:VCALENDAR
VERSION:2.0
PRODID:-//Utenos daugiafunkcis sporto centras - ECPv6.8.2//NONSGML v1.0//EN
CALSCALE:GREGORIAN
METHOD:PUBLISH
X-WR-CALNAME:Utenos daugiafunkcis sporto centras
X-ORIGINAL-URL:https://utenosdsc.lt
X-WR-CALDESC:Events for Utenos daugiafunkcis sporto centras
REFRESH-INTERVAL;VALUE=DURATION:PT1H
X-Robots-Tag:noindex
X-PUBLISHED-TTL:PT1H
BEGIN:VTIMEZONE
TZID:UTC
BEGIN:STANDARD
TZOFFSETFROM:+0000
TZOFFSETTO:+0000
TZNAME:UTC
DTSTART:20260101T000000
END:STANDARD
END:VTIMEZONE
BEGIN:VEVENT
DTSTART;TZID=UTC:20260317T110000
DTEND;TZID=UTC:20260317T110000
DTSTAMP:20260421T214739
CREATED:20260316T074044Z
LAST-MODIFIED:20260316T074046Z
UID:11676-1773745200-1773745200@utenosdsc.lt
SUMMARY:Utenos r. mokyklų mokinių tinklinio 3x3 varžybos\, skirtos Utenos DSC  taurei laimėti
DESCRIPTION:
URL:https://utenosdsc.lt/renginys/utenos-r-mokyklu-mokiniu-tinklinio-3x3-varzybos-skirtos-utenos-dsc-taurei-laimeti/
LOCATION:Utenos daugiafunkcis sporto centras\, Aušros g. 20\, Utena\, Lietuva
CATEGORIES:Lietuvos mokyklų žaidynės
END:VEVENT
END:VCALENDAR